BEGIN:VCALENDAR
VERSION:2.0
PRODID:-//Palliative Approaches - ECPv6.15.20//NONSGML v1.0//EN
CALSCALE:GREGORIAN
METHOD:PUBLISH
X-ORIGINAL-URL:https://palliativeapproaches.uvic.ca
X-WR-CALDESC:Events for Palliative Approaches
REFRESH-INTERVAL;VALUE=DURATION:PT1H
X-Robots-Tag:noindex
X-PUBLISHED-TTL:PT1H
BEGIN:VTIMEZONE
TZID:America/Vancouver
BEGIN:DAYLIGHT
TZOFFSETFROM:-0800
TZOFFSETTO:-0700
TZNAME:PDT
DTSTART:20250309T100000
END:DAYLIGHT
BEGIN:STANDARD
TZOFFSETFROM:-0700
TZOFFSETTO:-0800
TZNAME:PST
DTSTART:20251102T090000
END:STANDARD
BEGIN:DAYLIGHT
TZOFFSETFROM:-0800
TZOFFSETTO:-0700
TZNAME:PDT
DTSTART:20260308T100000
END:DAYLIGHT
BEGIN:STANDARD
TZOFFSETFROM:-0700
TZOFFSETTO:-0800
TZNAME:PST
DTSTART:20261101T090000
END:STANDARD
BEGIN:DAYLIGHT
TZOFFSETFROM:-0800
TZOFFSETTO:-0700
TZNAME:PDT
DTSTART:20270314T100000
END:DAYLIGHT
BEGIN:STANDARD
TZOFFSETFROM:-0700
TZOFFSETTO:-0800
TZNAME:PST
DTSTART:20271107T090000
END:STANDARD
END:VTIMEZONE
BEGIN:VEVENT
DTSTART;TZID=America/Vancouver:20260415T120000
DTEND;TZID=America/Vancouver:20260415T130000
DTSTAMP:20260425T102316
CREATED:20260312T070016Z
LAST-MODIFIED:20260312T141453Z
UID:3514-1776254400-1776258000@palliativeapproaches.uvic.ca
SUMMARY:Mana Motuhake: Indigenous Families’ Aspirations and Experiences of Assisted Dying in Aotearoa New Zealand
DESCRIPTION:Join us for Dr. Kelli Stajduhar’s CRC Talks April 15\, 12-1pm PDT! We are hosting Dr. Tess Moeke-Maxwell for a talk titled\, Mana Motuhake: Indigenous Families’ Aspirations and Experiences of Assisted Dying in Aotearoa New Zealand.  \nRegister here: https://uvic.zoom.us/meeting/register/dVnzRK0oSzSzUtte9rEehw \nDr Tess Moeke-Maxwell\, PhD (Ngāi Tai ki Tāmaki; Ngāti Porou) is a Senior Research Fellow\, School of Nursing\, University of Auckland and Co-Director Te Ārai Palliative Care and End of Life Research Group. Tess Moeke-Maxwell is a descendant of Ngāi Tai ki Tāmaki and Ngāti Porou. She is a Senior Research Fellow and co-director of the Te Ārai Palliative Care and End of Life Research Group at the School of Nursing\, University of Auckland. Tess leads Kaupapa Māori “lived Indigenous experience” qualitative research on behalf of Te Ārai’s Kāhui advisory group. Improving end-of-life\, palliative care and assisted dying experiences for Māori whānau (family\, including extended family) are her research interests. Currently\, she leads the Health Research Council funded ‘Waerea study’ on Māori whānau experiences using Assisted Dying services. Tess is an advisory member of the National Palliative Care Work Programme for Te Whatu Ora – Health New Zealand. In 2022\, the Royal Society of NZ awarded Tess and Te Ārai Kāhui the NZ Health Research Council’s Te Tohu Rapuora Medal for research excellence with Māori communities. She was selected as one of New Zealand’s 100 Māori Leaders as part of the Henry Rongomau Bennett Foundation Leadership Strategy based on her contributions to Indigenous end-of-life care research. \nSupport for these events provided by Dr. Stajduhar and the Canada Research Chairs Program\, the UVic Institute on Aging & Lifelong Health and School of Nursing; Island Health; and Victoria Hospice. For more info\, please email: palliative_approaches@uvic.ca  \n 
URL:https://palliativeapproaches.uvic.ca/event/mana-motuhake-indigenous-families-aspirations-and-experiences-of-assisted-dying-in-aotearoa-new-zealand/
LOCATION:Zoom
CATEGORIES:CRC Talks
ATTACH;FMTTYPE=image/png:https://palliativeapproaches.uvic.ca/wp-content/uploads/2026/04/Tess-Moeke-Maxwell-CRC-Talks-Poster.png
END:VEVENT
END:VCALENDAR